BEGIN:VCALENDAR
VERSION:2.0
PRODID:-//Majorca British - ECPv4.5.2//NONSGML v1.0//EN
CALSCALE:GREGORIAN
METHOD:PUBLISH
X-WR-CALNAME:Majorca British
X-ORIGINAL-URL:https://www.majorcabritish.com
X-WR-CALDESC:Events for Majorca British
BEGIN:VEVENT
DTSTART;TZID=Europe/Madrid:20250314T200000
DTEND;TZID=Europe/Madrid:20250314T220000
DTSTAMP:20260423T204256
CREATED:20250314T095600Z
LAST-MODIFIED:20250314T095737Z
UID:5371-1741982400-1741989600@www.majorcabritish.com
SUMMARY:Kiki Morente Flamenco
DESCRIPTION:Kiki Morente Flamenco
URL:https://www.majorcabritish.com/event/5371/
ATTACH;FMTTYPE=image/jpeg:https://www.majorcabritish.com/wp-content/uploads/2025/03/guitarra.jpg
END:VEVENT
END:VCALENDAR